BEGIN:VCALENDAR
VERSION:2.0
PRODID:-//ChamberMaster//Event Calendar 2.0//EN
METHOD:PUBLISH
X-PUBLISHED-TTL:P3D
REFRESH-INTERVAL:P3D
CALSCALE:GREGORIAN
BEGIN:VEVENT
DTSTART:20191111T180000Z
DTEND:20191111T210000Z
X-MICROSOFT-CDO-ALLDAYEVENT:FALSE
SUMMARY:101st Annual Veterans' Homecoming Parade
DESCRIPTION:Porterville Post No. 20\, The American Legion\, and Porterville Veterans Memorial District invite you to the Porterville's 101st Annual Homecoming Parade. This year's theme is "America and why I love her."
X-ALT-DESC;FMTTYPE=text/html:<span id="docs-internal-guid-9a3a46f7-7fff-c715-be7f-a419d78449b3"><span style="font-size: 11pt\; font-family: Arial\; color: rgb(0\, 0\, 0)\; background-color: transparent\; font-variant-numeric: normal\; font-variant-east-asian: normal\; vertical-align: baseline\; white-space: pre-wrap\;">Porterville Post No. 20\, The American Legion\, and Porterville Veterans Memorial District invite you to the Porterville&rsquo\;s 101st Annual Homecoming Parade. This year&#39\;s theme is &quot\;America and why I love her.&quot\; </span></span>
LOCATION:Main Street\, Porterville\, CA 93257
UID:e.2225.2072
SEQUENCE:3
DTSTAMP:20260421T015243Z
URL:https://business.portervillechamber.org/events/details/101st-annual-veterans-homecoming-parade-2072
END:VEVENT

END:VCALENDAR
