BEGIN:VCALENDAR
VERSION:2.0
PRODID:-//ChamberMaster//Event Calendar 2.0//EN
METHOD:PUBLISH
X-PUBLISHED-TTL:P3D
REFRESH-INTERVAL:P3D
CALSCALE:GREGORIAN
BEGIN:VEVENT
DTSTART:20180407T010000Z
DTEND:20180407T040000Z
X-MICROSOFT-CDO-ALLDAYEVENT:FALSE
SUMMARY:13th Annual Birdhouse (and Toto Too) Auction
DESCRIPTION:We invite you to join Habitat for Humanity as a guest or sponsor at the 13th Annual Birdhouse (and Toto Too) Auction. Enjoy great wine and food from dozens of local restaurants in an evening full of flavor\, entertainment\, and incredible artistic creations. There is a twist this year...we are adding dog houses! This fun and unique event raises funds to support Habitat for Humanity's programs throughout Tulare and Kings Counties. Hope to see you there!
X-ALT-DESC;FMTTYPE=text/html:We invite you to join Habitat for Humanity as a guest or sponsor at the 13th Annual Birdhouse (and Toto Too) Auction. Enjoy great wine and food from dozens of local restaurants in an evening full of flavor\, entertainment\, and incredible artistic creations. There is a twist this year...we are adding dog houses! This fun and unique event raises funds to support Habitat for Humanity&#39\;s programs throughout Tulare and Kings Counties. Hope to see you there!
LOCATION:Wyndham Hotel - Visalia 9000 Airport Dr. Visalia\, CA. 93277
UID:e.2225.1285
SEQUENCE:3
DTSTAMP:20260422T113512Z
URL:https://business.portervillechamber.org/events/details/13th-annual-birdhouse-and-toto-too-auction-1285
END:VEVENT

END:VCALENDAR
