BEGIN:VCALENDAR
VERSION:2.0
PRODID:-//ChamberMaster//Event Calendar 2.0//EN
METHOD:PUBLISH
X-PUBLISHED-TTL:P3D
REFRESH-INTERVAL:P3D
CALSCALE:GREGORIAN
BEGIN:VEVENT
DTSTART:20190406T010000Z
DTEND:20190406T040000Z
X-MICROSOFT-CDO-ALLDAYEVENT:FALSE
SUMMARY:14th Annual Birdhouse Auction
DESCRIPTION:Join us Friday April 5th for Habitat for Humanity of Tulare/Kings Counties/ 14th Annual Birdhouse Auction and help Habitat celebrate 25 years of providing decent and affordable housing opportunities in Tulare & Kings Counties. Local artists create unique birdhouses and doghouses for our live auction. Restaurants will be providing appetizers for our guests along with wine from local opportunities. Make plans to attend this one-of-a-kind event and support Habitat's mission of building homes\, community\, and hope!
X-ALT-DESC;FMTTYPE=text/html:Join us Friday April 5th for Habitat for Humanity of Tulare/Kings Counties/ 14th Annual Birdhouse Auction and help Habitat celebrate 25 years of providing decent and affordable housing opportunities in Tulare &amp\; Kings Counties. Local artists create unique birdhouses and doghouses for our live auction. Restaurants will be providing appetizers for our guests along with wine from local opportunities. Make plans to attend this one-of-a-kind event and support Habitat&#39\;s mission of building homes\, community\, and hope!
LOCATION:Wyndham Visalia 9000 W. Airport Dr. Visalia 93277
UID:e.2225.1873
SEQUENCE:3
DTSTAMP:20260421T155147Z
URL:https://business.portervillechamber.org/events/details/14th-annual-birdhouse-auction-1873
END:VEVENT

END:VCALENDAR
