BEGIN:VCALENDAR
VERSION:2.0
PRODID:-//ChamberMaster//Event Calendar 2.0//EN
METHOD:PUBLISH
X-PUBLISHED-TTL:P3D
REFRESH-INTERVAL:P3D
CALSCALE:GREGORIAN
BEGIN:VEVENT
DTSTART:20190916T000000Z
DTEND:20190916T040000Z
X-MICROSOFT-CDO-ALLDAYEVENT:FALSE
SUMMARY:16 de Septiembre Celebration
DESCRIPTION:Comision Honorifica Mexicana-Americana\, Inc. invites you to their 16 de Septiembre Celebration. Grito de Dolores!
X-ALT-DESC;FMTTYPE=text/html:Comision Honorifica Mexicana-Americana\, Inc. invites you to their 16 de Septiembre Celebration. Grito de Dolores!&nbsp\;
LOCATION:Comision Honorifica Mexicana-Americana\, Inc 466 E. Putnam Ave Porterville\, CA 93257
UID:e.2225.2016
SEQUENCE:3
DTSTAMP:20260421T054209Z
URL:https://business.portervillechamber.org/events/details/16-de-septiembre-celebration-2016
END:VEVENT

END:VCALENDAR
