BEGIN:VCALENDAR
VERSION:2.0
PRODID:-//ChamberMaster//Event Calendar 2.0//EN
METHOD:PUBLISH
X-PUBLISHED-TTL:P3D
REFRESH-INTERVAL:P3D
CALSCALE:GREGORIAN
BEGIN:VEVENT
DTSTART:20181104T020000Z
DTEND:20181104T040000Z
X-MICROSOFT-CDO-ALLDAYEVENT:FALSE
SUMMARY:1920's Silent Movie Night featuring theater Organist Dave Moreno
DESCRIPTION:1920's Silent Movie Night with theater organist Dave Moreno playing live accompaniment ***Harold Lloyd\, Charlie Chaplin\, Laurel & Hardy\, Buster Keaton***
X-ALT-DESC;FMTTYPE=text/html:1920&#39\;s Silent Movie Night with theater organist Dave Moreno playing live accompaniment ***Harold Lloyd\, Charlie Chaplin\, Laurel &amp\; Hardy\, Buster Keaton***
LOCATION:First Congregational Church 165 E. Mill Porterville\, Ca
UID:e.2225.1787
SEQUENCE:3
DTSTAMP:20260421T230818Z
URL:https://business.portervillechamber.org/events/details/1920-s-silent-movie-night-featuring-theater-organist-dave-moreno-1787
END:VEVENT

END:VCALENDAR
