BEGIN:VCALENDAR
VERSION:2.0
PRODID:-//ChamberMaster//Event Calendar 2.0//EN
METHOD:PUBLISH
X-PUBLISHED-TTL:P3D
REFRESH-INTERVAL:P3D
CALSCALE:GREGORIAN
BEGIN:VEVENT
DTSTART:20180413T170000Z
DTEND:20180416T000000Z
X-MICROSOFT-CDO-ALLDAYEVENT:FALSE
SUMMARY:2018 Best of the Valley Quilt Show
DESCRIPTION:The Best of the Valley Quilt Show will open its doors to the public for the 23rd time. It will be held at the McDermont Field House in Lindsay.
X-ALT-DESC;FMTTYPE=text/html:The Best of the Valley Quilt Show will open its doors to the public for the 23rd time. It will be held at the McDermont Field House in Lindsay.&nbsp\;
LOCATION:McDermont Field House 365 N Sweetbriar Ave\, Lindsay\, CA 93247
UID:e.2225.1469
SEQUENCE:3
DTSTAMP:20260422T114548Z
URL:https://business.portervillechamber.org/events/details/2018-best-of-the-valley-quilt-show-1469
END:VEVENT

END:VCALENDAR
