BEGIN:VCALENDAR
VERSION:2.0
PRODID:-//ChamberMaster//Event Calendar 2.0//EN
METHOD:PUBLISH
X-PUBLISHED-TTL:P3D
REFRESH-INTERVAL:P3D
CALSCALE:GREGORIAN
BEGIN:VEVENT
DTSTART:20180406T233000Z
DTEND:20180407T010000Z
X-MICROSOFT-CDO-ALLDAYEVENT:FALSE
SUMMARY:2018 City of Porterville Youth Track Meet
DESCRIPTION:2018 City of Porterville Youth Track Meet
X-ALT-DESC;FMTTYPE=text/html:<p class="header1" style="font-family: &quot\;Times New Roman&quot\;\, Times\, serif\; font-size: 20px\; color: rgb(102\, 102\, 102)\; font-weight: bold\; margin: 0px\; padding: 5px 10px\;">2018 City of Porterville Youth Track Meet</p>\n\n<p style="margin: 0px\; padding: 5px 10px\; color: rgb(128\, 128\, 128)\; font-family: Verdana\, Geneva\, sans-serif\; font-size: 12px\;"><br />\n<br />\n&nbsp\;</p>\n\n<p style="margin: 0px\; padding: 5px 10px\; color: rgb(128\, 128\, 128)\; font-family: Verdana\, Geneva\, sans-serif\; font-size: 12px\;">&nbsp\;</p>\n
LOCATION:Granite Hills High School
UID:e.2225.1456
SEQUENCE:3
DTSTAMP:20260422T113700Z
URL:https://business.portervillechamber.org/events/details/2018-city-of-porterville-youth-track-meet-1456
END:VEVENT

END:VCALENDAR
