BEGIN:VCALENDAR
VERSION:2.0
PRODID:-//ChamberMaster//Event Calendar 2.0//EN
METHOD:PUBLISH
X-PUBLISHED-TTL:P3D
REFRESH-INTERVAL:P3D
CALSCALE:GREGORIAN
BEGIN:VEVENT
DTSTART:20200307T200000Z
DTEND:20200308T000000Z
X-MICROSOFT-CDO-ALLDAYEVENT:FALSE
SUMMARY:2020 PEF Golf Tournament
DESCRIPTION:The Porterville Education Foundation invites you to the 2020 PEF Golf Tournament! All proceeds will fund scholarships through the PEF.\n\n \n\nFor more information\, please call:\n\nJoe Ruiz\, Jr. (559) 3592872\n\nDennis Sexton (559) 280-7365
X-ALT-DESC;FMTTYPE=text/html:<p dir="ltr" style="line-height:1.38\;margin-top:0pt\;margin-bottom:0pt\;"><span id="docs-internal-guid-f2fa6619-7fff-9c74-2c67-3efa42d751d0"><span style="font-size: 11pt\; font-family: Arial\; color: rgb(0\, 0\, 0)\; background-color: transparent\; font-variant-numeric: normal\; font-variant-east-asian: normal\; vertical-align: baseline\; white-space: pre-wrap\;">The Porterville Education Foundation invites you to the 2020 PEF Golf Tournament! All proceeds will fund scholarships through the PEF.</span></span><br />\n&nbsp\;</p>\n\n<p dir="ltr" style="line-height:1.38\;margin-top:0pt\;margin-bottom:0pt\;"><span id="docs-internal-guid-fc3ce1b1-7fff-2c27-029d-cb6acad10abc"><span style="font-size: 11pt\; font-family: Arial\; color: rgb(0\, 0\, 0)\; background-color: transparent\; font-variant-numeric: normal\; font-variant-east-asian: normal\; vertical-align: baseline\; white-space: pre-wrap\;">For more information\, please call:</span></span></p>\n\n<p dir="ltr" style="line-height:1.38\;margin-top:0pt\;margin-bottom:0pt\;"><span id="docs-internal-guid-fc3ce1b1-7fff-2c27-029d-cb6acad10abc"><span style="font-size: 11pt\; font-family: Arial\; color: rgb(0\, 0\, 0)\; background-color: transparent\; font-variant-numeric: normal\; font-variant-east-asian: normal\; vertical-align: baseline\; white-space: pre-wrap\;">Joe Ruiz\, Jr. (559) 3592872</span></span></p>\n\n<p dir="ltr" style="line-height:1.38\;margin-top:0pt\;margin-bottom:0pt\;"><span id="docs-internal-guid-fc3ce1b1-7fff-2c27-029d-cb6acad10abc"><span style="font-size: 11pt\; font-family: Arial\; color: rgb(0\, 0\, 0)\; background-color: transparent\; font-variant-numeric: normal\; font-variant-east-asian: normal\; vertical-align: baseline\; white-space: pre-wrap\;">Dennis Sexton (559) 280-7365</span></span></p>\n
LOCATION:River Island Country Club 31989 River Island Drive Porterville\, CA 93257
UID:e.2225.2144
SEQUENCE:3
DTSTAMP:20260420T202704Z
URL:https://business.portervillechamber.org/events/details/2020-pef-golf-tournament-2144
END:VEVENT

END:VCALENDAR
