BEGIN:VCALENDAR
VERSION:2.0
PRODID:-//ChamberMaster//Event Calendar 2.0//EN
METHOD:PUBLISH
X-PUBLISHED-TTL:P3D
REFRESH-INTERVAL:P3D
CALSCALE:GREGORIAN
BEGIN:VEVENT
DTSTART:20191018T010000Z
DTEND:20191018T030000Z
X-MICROSOFT-CDO-ALLDAYEVENT:FALSE
SUMMARY:21st Annual Domestic Violence Candlelight Vigil
DESCRIPTION:The Family Crisis Center will have a short program and conclude with reading the names of victims of domestic violence who have lost their lives over the past year. Each attendee will be given a candle which we will light to remember those lives lost and to shine a light on the impact of domestic violence. This is a free community event and all are encouraged to join us.
X-ALT-DESC;FMTTYPE=text/html:<span style="color: rgb(10\, 10\, 10)\; font-family: Nobile\; background-color: rgb(252\, 252\, 252)\;">The Family Crisis Center will have a short program and conclude with reading the names of victims of domestic violence who have lost their lives over the past year. Each attendee will be given a candle which we will light to remember those lives lost and to shine a light on the impact of domestic violence. This is a free community event and all are encouraged to join us.</span>
LOCATION:Centennial Park 296 N. Main St\, Porterville\, CA 93257
UID:e.2225.2006
SEQUENCE:3
DTSTAMP:20260421T035139Z
URL:https://business.portervillechamber.org/events/details/21st-annual-domestic-violence-candlelight-vigil-2006
END:VEVENT

END:VCALENDAR
