BEGIN:VCALENDAR
VERSION:2.0
PRODID:-//ChamberMaster//Event Calendar 2.0//EN
METHOD:PUBLISH
X-PUBLISHED-TTL:P3D
REFRESH-INTERVAL:P3D
CALSCALE:GREGORIAN
BEGIN:VEVENT
DTSTART:20180310T010000Z
DTEND:20180310T070000Z
X-MICROSOFT-CDO-ALLDAYEVENT:FALSE
SUMMARY:24th Annual Champagne and Chocolates Gala
DESCRIPTION:Burton Educational Partnership Foundation is a non-profit organization whose mission is to increase community awareness. \n\n24th Annual Champagne and Chocolates Gala
X-ALT-DESC;FMTTYPE=text/html:Burton Educational Partnership Foundation is a non-profit organization whose mission is to increase community awareness.&nbsp\;<br />\n24th Annual Champagne and Chocolates Gala
LOCATION:Porterville Fairgrounds
UID:e.2225.1287
SEQUENCE:3
DTSTAMP:20260422T132024Z
URL:https://business.portervillechamber.org/events/details/24th-annual-champagne-and-chocolates-gala-1287
END:VEVENT

END:VCALENDAR
