BEGIN:VCALENDAR
VERSION:2.0
PRODID:-//ChamberMaster//Event Calendar 2.0//EN
METHOD:PUBLISH
X-PUBLISHED-TTL:P3D
REFRESH-INTERVAL:P3D
CALSCALE:GREGORIAN
BEGIN:VEVENT
DTSTART:20190511T000000Z
DTEND:20190511T050000Z
X-MICROSOFT-CDO-ALLDAYEVENT:FALSE
SUMMARY:25th Annual Once Upon A Dream - CASA
DESCRIPTION:Get ahead of  the game and register today!
X-ALT-DESC;FMTTYPE=text/html:Get ahead of&nbsp\; the game and register today!<br />\n&nbsp\;
LOCATION:Visalia Convention Center 303 E. Acequia Ave.\, Visalia\, CA 93291
UID:e.2225.1891
SEQUENCE:3
DTSTAMP:20260421T125009Z
URL:https://business.portervillechamber.org/events/details/25th-annual-once-upon-a-dream-casa-1891
END:VEVENT

END:VCALENDAR
