BEGIN:VCALENDAR
VERSION:2.0
PRODID:-//ChamberMaster//Event Calendar 2.0//EN
METHOD:PUBLISH
X-PUBLISHED-TTL:P3D
REFRESH-INTERVAL:P3D
CALSCALE:GREGORIAN
BEGIN:VEVENT
DTSTART:20191207T180000Z
DTEND:20191207T230000Z
X-MICROSOFT-CDO-ALLDAYEVENT:FALSE
SUMMARY:27th Anniversary Christmas Home Tour
DESCRIPTION:The Zonta Club of Porterville is hosting their 27th Anniversary Home Tour on Saturday\, December 7th\, 2019. The tickets are available at the Porterville Chamber of Commerce\, Staffords\, The Flower Mill\, OACYS or beginning at 10 a.m. on December 7th at the Barn Theater.
X-ALT-DESC;FMTTYPE=text/html:The Zonta Club of Porterville is hosting their 27th Anniversary Home Tour on Saturday\, December 7th\, 2019. The tickets are available at the Porterville Chamber of Commerce\, Staffords\, The Flower Mill\, OACYS or beginning at 10 a.m. on December 7th at the Barn Theater.&nbsp\;
LOCATION:Zonta Bazaar and Hospitality Barn Theater 42 S. Plano Street\, Porterville\, CA 93257 Christmas Home Tour Porterville/Springville
UID:e.2225.1875
SEQUENCE:3
DTSTAMP:20260421T001351Z
URL:https://business.portervillechamber.org/events/details/27th-anniversary-christmas-home-tour-1875
END:VEVENT

END:VCALENDAR
