BEGIN:VCALENDAR
VERSION:2.0
PRODID:-//ChamberMaster//Event Calendar 2.0//EN
METHOD:PUBLISH
X-PUBLISHED-TTL:P3D
REFRESH-INTERVAL:P3D
CALSCALE:GREGORIAN
BEGIN:VEVENT
DTSTART:20190925T160000Z
DTEND:20190925T190000Z
X-MICROSOFT-CDO-ALLDAYEVENT:FALSE
SUMMARY:28th Annual Tulare County Job Fair
DESCRIPTION:
X-ALT-DESC;FMTTYPE=text/html:
LOCATION:Visalia Convention Center 303 E. Acequia Avenue\, Visalia\, CA 93291
UID:e.2225.2001
SEQUENCE:3
DTSTAMP:20260421T054435Z
URL:https://business.portervillechamber.org/events/details/28th-annual-tulare-county-job-fair-2001
END:VEVENT

END:VCALENDAR
