BEGIN:VCALENDAR
VERSION:2.0
PRODID:-//ChamberMaster//Event Calendar 2.0//EN
METHOD:PUBLISH
X-PUBLISHED-TTL:P3D
REFRESH-INTERVAL:P3D
CALSCALE:GREGORIAN
BEGIN:VEVENT
DTSTART:20200229T030000Z
DTEND:20200229T050000Z
X-MICROSOFT-CDO-ALLDAYEVENT:FALSE
SUMMARY:2nd Annual Comedy Blast 2020
DESCRIPTION:Hands in the Community announces the return of its 2nd Annual   Comedy Blast   on February 28\, 2020 at 7:00pm. This hilarious night of comedy and magic will be at Visalia First Assembly's beautiful 2600-seat state-of-the art auditorium located at Akers and Caldwell\, in Visalia\, Ca. This year's event will feature the family-friendly combination of comedian-magician Mark Robinson and hilarious standup comedian Cleto Rodriguez. Family friendly means it will be hilarious & fun but you can bring your children without fear! Hands in the Community is a non-profit organization established to provide crisis and short-term referral services in Tulare County. We serve as a network\, connecting services and resources between those who need them and those who can provide them. Working with existing organizations\, as well as volunteers\, we focus on not only fulfilling the needs of our community\, but on building relationships and bridging gaps.
X-ALT-DESC;FMTTYPE=text/html:Hands in the Community announces the return of its 2nd Annual &mdash\; Comedy Blast &mdash\; on February 28\, 2020 at 7:00pm. This hilarious night of comedy and magic will be at Visalia First Assembly&rsquo\;s beautiful 2600-seat state-of-the art auditorium located at Akers and Caldwell\, in Visalia\, Ca. This year&rsquo\;s event will feature the family-friendly combination of comedian-magician Mark Robinson and hilarious standup comedian Cleto Rodriguez. Family friendly means it will be hilarious &amp\; fun but you can bring your children without fear! Hands in the Community is a non-profit organization established to provide crisis and short-term referral services in Tulare County. We serve as a network\, connecting services and resources between those who need them and those who can provide them. Working with existing organizations\, as well as volunteers\, we focus on not only fulfilling the needs of our community\, but on building relationships and bridging gaps.
LOCATION:Visalia First Assembly 3737 S Akers Visalia 93277
UID:e.2225.1985
SEQUENCE:3
DTSTAMP:20260420T221051Z
URL:https://business.portervillechamber.org/events/details/2nd-annual-comedy-blast-2020-1985
END:VEVENT

END:VCALENDAR
