BEGIN:VCALENDAR
VERSION:2.0
PRODID:-//ChamberMaster//Event Calendar 2.0//EN
METHOD:PUBLISH
X-PUBLISHED-TTL:P3D
REFRESH-INTERVAL:P3D
CALSCALE:GREGORIAN
BEGIN:VEVENT
DTSTART:20171125T020000Z
DTEND:20171125T020000Z
X-MICROSOFT-CDO-ALLDAYEVENT:FALSE
SUMMARY:38th Annual Christmas Tree Lighting Ceremony
DESCRIPTION:Centennial Park Tree Lighting\n\nCollecting canned goods and Toys for Tots
X-ALT-DESC;FMTTYPE=text/html:Centennial Park Tree Lighting<br />\nCollecting canned goods and Toys for Tots
LOCATION:
UID:e.2225.1266
SEQUENCE:3
DTSTAMP:20260422T195928Z
URL:https://business.portervillechamber.org/events/details/38th-annual-christmas-tree-lighting-ceremony-1266
END:VEVENT

END:VCALENDAR
