BEGIN:VCALENDAR
VERSION:2.0
PRODID:-//ChamberMaster//Event Calendar 2.0//EN
METHOD:PUBLISH
X-PUBLISHED-TTL:P3D
REFRESH-INTERVAL:P3D
CALSCALE:GREGORIAN
BEGIN:VEVENT
DTSTART:20181124T020000Z
DTEND:20181124T040000Z
X-MICROSOFT-CDO-ALLDAYEVENT:FALSE
SUMMARY:39th Annual Community Christmas Tree Lighting Ceremony
DESCRIPTION:Celebrating The Glory Of Christmas
X-ALT-DESC;FMTTYPE=text/html:Celebrating The Glory Of Christmas
LOCATION:Centenial Park 296 North Main St.
UID:e.2225.1843
SEQUENCE:3
DTSTAMP:20260421T225933Z
URL:https://business.portervillechamber.org/events/details/39th-annual-community-christmas-tree-lighting-ceremony-1843
END:VEVENT

END:VCALENDAR
