BEGIN:VCALENDAR
VERSION:2.0
PRODID:-//ChamberMaster//Event Calendar 2.0//EN
METHOD:PUBLISH
X-PUBLISHED-TTL:P3D
REFRESH-INTERVAL:P3D
CALSCALE:GREGORIAN
BEGIN:VEVENT
DTSTART:20190117T010000Z
DTEND:20190117T030000Z
X-MICROSOFT-CDO-ALLDAYEVENT:FALSE
SUMMARY:3rd Annual Bad Art Show
DESCRIPTION:The Porterville Art Association would like to invite you to it's 3rd annual Bad Art Show. Which will feature Rejected Works of art\, Tongue in Cheek art\, and Commercial Junk Art. A live performance by the Eaton - Pyles string band is schedualed to take place during the Friday Reception on January 18\, 2019 at 5 p.m..
X-ALT-DESC;FMTTYPE=text/html:The Porterville Art Association would like to invite you to it&#39\;s 3rd annual Bad Art Show. Which will feature Rejected Works of art\, Tongue in Cheek art\, and Commercial Junk Art. A live performance by the Eaton - Pyles string band is schedualed to take place during the Friday Reception on January 18\, 2019 at 5 p.m..
LOCATION:Porterville Art Association Gallery - 151 N. Main St.
UID:e.2225.1856
SEQUENCE:3
DTSTAMP:20260421T192325Z
URL:https://business.portervillechamber.org/events/details/3rd-annual-bad-art-show-1856
END:VEVENT

END:VCALENDAR
