BEGIN:VCALENDAR
VERSION:2.0
PRODID:-//ChamberMaster//Event Calendar 2.0//EN
METHOD:PUBLISH
X-PUBLISHED-TTL:P3D
REFRESH-INTERVAL:P3D
CALSCALE:GREGORIAN
BEGIN:VEVENT
DTSTART:20191031T170000Z
DTEND:20191031T200000Z
X-MICROSOFT-CDO-ALLDAYEVENT:FALSE
SUMMARY:3rd Annual Porterville College Transfer Fair
DESCRIPTION:
X-ALT-DESC;FMTTYPE=text/html:
LOCATION:Porterville College 100 E. College Avenue Porterville\, CA 93257
UID:e.2225.2070
SEQUENCE:3
DTSTAMP:20260421T035222Z
URL:https://business.portervillechamber.org/events/details/3rd-annual-porterville-college-transfer-fair-2070
END:VEVENT

END:VCALENDAR
