BEGIN:VCALENDAR
VERSION:2.0
PRODID:-//ChamberMaster//Event Calendar 2.0//EN
METHOD:PUBLISH
X-PUBLISHED-TTL:P3D
REFRESH-INTERVAL:P3D
CALSCALE:GREGORIAN
BEGIN:VEVENT
DTSTART:20200125T010000Z
DTEND:20200125T030000Z
X-MICROSOFT-CDO-ALLDAYEVENT:FALSE
SUMMARY:4th Annual Bad Art Show Reception
DESCRIPTION:Porterville Art Association is holding their 4th Annual Bad Art Show. View reject\, tongue-in-cheek\, and "commercial junk" art pieces.\n\n\n\nThose seeking to enter pieces may visit the Porterville Art Association on Saturday\, January 11th between 11:00 a.m. and 4:00 p.m.
X-ALT-DESC;FMTTYPE=text/html:<span id="docs-internal-guid-a8bcb777-7fff-b9ec-903f-19b872005a0f"><span style="font-size: 11pt\; font-family: Arial\; color: rgb(0\, 0\, 0)\; background-color: transparent\; font-variant-numeric: normal\; font-variant-east-asian: normal\; vertical-align: baseline\; white-space: pre-wrap\;">Porterville Art Association is holding their 4th Annual Bad Art Show. View reject\, tongue-in-cheek\, and &quot\;commercial junk&quot\; art pieces.<br />\n<br />\nThose seeking to enter pieces may visit the Porterville Art Association on Saturday\, January 11th between 11:00 a.m. and 4:00 p.m.</span></span>
LOCATION:Porterville Art Association 151 N. Main Street Porterville\, CA 93257
UID:e.2225.2114
SEQUENCE:3
DTSTAMP:20260420T221337Z
URL:https://business.portervillechamber.org/events/details/4th-annual-bad-art-show-reception-2114
END:VEVENT

END:VCALENDAR
