BEGIN:VCALENDAR
VERSION:2.0
PRODID:-//ChamberMaster//Event Calendar 2.0//EN
METHOD:PUBLISH
X-PUBLISHED-TTL:P3D
REFRESH-INTERVAL:P3D
CALSCALE:GREGORIAN
BEGIN:VEVENT
DTSTART:20181027T020000Z
DTEND:20181027T070000Z
X-MICROSOFT-CDO-ALLDAYEVENT:FALSE
SUMMARY:4th Annual Free Comunity Haunted House
DESCRIPTION:
X-ALT-DESC;FMTTYPE=text/html:
LOCATION:735 E. Henderso Ave.
UID:e.2225.1818
SEQUENCE:3
DTSTAMP:20260422T020813Z
URL:https://business.portervillechamber.org/events/details/4th-annual-free-comunity-haunted-house-1818
END:VEVENT

END:VCALENDAR
