BEGIN:VCALENDAR
VERSION:2.0
PRODID:-//ChamberMaster//Event Calendar 2.0//EN
METHOD:PUBLISH
X-PUBLISHED-TTL:P3D
REFRESH-INTERVAL:P3D
CALSCALE:GREGORIAN
BEGIN:VEVENT
DTSTART:20200328T140000Z
DTEND:20200328T190000Z
X-MICROSOFT-CDO-ALLDAYEVENT:FALSE
SUMMARY:4th Annual Superhero Run
DESCRIPTION:Join CASA of Tulare County for the Fourth Annual Superhero Run! Participate and enjoy 5K & 1K Routes\, food & raffles\, carnival games\, and more! This event is fun for the whole family.\n \n\nTo register\, visit runsignup.com/casarun2020.
X-ALT-DESC;FMTTYPE=text/html:<p dir="ltr" style="line-height:1.38\;margin-top:0pt\;margin-bottom:0pt\;"><span style="font-size:12px\;"><span id="docs-internal-guid-9f4f21a1-7fff-5958-5814-f5175846509a"><span style="font-family: Arial\; color: rgb(0\, 0\, 0)\; background-color: transparent\; font-variant-numeric: normal\; font-variant-east-asian: normal\; vertical-align: baseline\; white-space: pre-wrap\;">Join CASA of Tulare County for the Fourth Annual Superhero Run! Participate and enjoy 5K &amp\; 1K Routes\, food &amp\; raffles\, carnival games\, and more! This event is fun for the whole family.</span></span></span></p>\n&nbsp\;\n\n<p dir="ltr" style="line-height:1.38\;margin-top:0pt\;margin-bottom:0pt\;"><span style="font-size:12px\;"><span id="docs-internal-guid-9f4f21a1-7fff-5958-5814-f5175846509a"><span style="font-family: Arial\; color: rgb(0\, 0\, 0)\; background-color: transparent\; font-variant-numeric: normal\; font-variant-east-asian: normal\; vertical-align: baseline\; white-space: pre-wrap\;">To register\, visit runsignup.com/casarun2020.</span></span></span></p>\n\n<div>&nbsp\;</div>\n
LOCATION:Live Oak Park & Santa Fe Trail in Tulare\, CA
UID:e.2225.2140
SEQUENCE:3
DTSTAMP:20260420T184102Z
URL:https://business.portervillechamber.org/events/details/4th-annual-superhero-run-2140
END:VEVENT

END:VCALENDAR
