BEGIN:VCALENDAR
VERSION:2.0
PRODID:-//ChamberMaster//Event Calendar 2.0//EN
METHOD:PUBLISH
X-PUBLISHED-TTL:P3D
REFRESH-INTERVAL:P3D
CALSCALE:GREGORIAN
BEGIN:VEVENT
DTSTART:20200314T163000Z
DTEND:20200314T190000Z
X-MICROSOFT-CDO-ALLDAYEVENT:FALSE
SUMMARY:5th Annual AAUW Annual Tech Trek Brunch
DESCRIPTION:
X-ALT-DESC;FMTTYPE=text/html:
LOCATION:Valley Adult Day Services 227 E. Oak Avenue Porterville\, CA 93257
UID:e.2225.2141
SEQUENCE:3
DTSTAMP:20260420T202735Z
URL:https://business.portervillechamber.org/events/details/5th-annual-aauw-annual-tech-trek-brunch-2141
END:VEVENT

END:VCALENDAR
