BEGIN:VCALENDAR
VERSION:2.0
PRODID:-//ChamberMaster//Event Calendar 2.0//EN
METHOD:PUBLISH
X-PUBLISHED-TTL:P3D
REFRESH-INTERVAL:P3D
CALSCALE:GREGORIAN
BEGIN:VEVENT
DTSTART:20190908T010000Z
DTEND:20190908T033000Z
X-MICROSOFT-CDO-ALLDAYEVENT:FALSE
SUMMARY:6th Annual CCPRA Rodeo
DESCRIPTION:The kick-off event offers family fun with non-stop rodeo action\, an outstanding night of mutton busting\, wild pony races\, Ranch Hand Broncs plus 8 sanctions CCPRA Rodeo events\, and much more! Top California professional cowboys and cowgirls will vie for the Championship at the kick-off Rodeo on September 7th.
X-ALT-DESC;FMTTYPE=text/html:<span style="font-size:12px\;"><span style="color: rgb(0\, 0\, 0)\; font-family: Lato\, sans-serif\;">The kick-off event offers family fun with non-stop rodeo action\, an outstanding night of mutton busting\, wild pony races\, Ranch Hand Broncs plus 8 sanctions CCPRA Rodeo events\, and much more! Top California professional cowboys and cowgirls will vie for the Championship at the kick-off Rodeo on September 7th.</span></span>
LOCATION:Tulare County Fairgrounds 620 S K St\, Tulare\, CA 93274
UID:e.2225.2005
SEQUENCE:3
DTSTAMP:20260421T054210Z
URL:https://business.portervillechamber.org/events/details/6th-annual-ccpra-rodeo-2005
END:VEVENT

END:VCALENDAR
