BEGIN:VCALENDAR
VERSION:2.0
PRODID:-//ChamberMaster//Event Calendar 2.0//EN
METHOD:PUBLISH
X-PUBLISHED-TTL:P3D
REFRESH-INTERVAL:P3D
CALSCALE:GREGORIAN
BEGIN:VEVENT
DTSTART:20181104T013000Z
DTEND:20181104T033000Z
X-MICROSOFT-CDO-ALLDAYEVENT:FALSE
SUMMARY:73rd Annual Veterans Homecoming Queen Miss Porterville Pageant
DESCRIPTION:
X-ALT-DESC;FMTTYPE=text/html:
LOCATION:Porterville Memorial Auditorium 415 W. Olive Ave.
UID:e.2225.1827
SEQUENCE:3
DTSTAMP:20260422T003741Z
URL:https://business.portervillechamber.org/events/details/73rd-annual-veterans-homecoming-queen-miss-porterville-pageant-1827
END:VEVENT

END:VCALENDAR
