BEGIN:VCALENDAR
VERSION:2.0
PRODID:-//ChamberMaster//Event Calendar 2.0//EN
METHOD:PUBLISH
X-PUBLISHED-TTL:P3D
REFRESH-INTERVAL:P3D
CALSCALE:GREGORIAN
BEGIN:VEVENT
DTSTART:20191027T010000Z
DTEND:20191027T030000Z
X-MICROSOFT-CDO-ALLDAYEVENT:FALSE
SUMMARY:74th Annual Veterans Homecoming Queen Miss Porterville Pageant
DESCRIPTION:Attend the 74th Annual Veterans Homecoming Queen Miss Porterville Pageant this Saturday\, October 26th. Admission is Free.\n\nDoors open at 6 p.m. The program begins at 6:30 p.m.\n\nThis event is sponsored by the Veteran's Homecoming Committee\, American Legion Post 20\, and The Porterville Memorial District.
X-ALT-DESC;FMTTYPE=text/html:<p dir="ltr" style="line-height:1.38\;margin-top:0pt\;margin-bottom:0pt\;"><span id="docs-internal-guid-cf6245df-7fff-6712-6d4c-f73c6bd46fb3"><span style="font-size: 11pt\; font-family: Arial\; color: rgb(0\, 0\, 0)\; background-color: transparent\; font-variant-numeric: normal\; font-variant-east-asian: normal\; vertical-align: baseline\; white-space: pre-wrap\;">Attend the 74th Annual Veterans Homecoming Queen Miss Porterville Pageant this Saturday\, October 26th. Admission is Free.</span></span></p>\n\n<p dir="ltr" style="line-height:1.38\;margin-top:0pt\;margin-bottom:0pt\;"><span id="docs-internal-guid-cf6245df-7fff-6712-6d4c-f73c6bd46fb3"><span style="font-size: 11pt\; font-family: Arial\; color: rgb(0\, 0\, 0)\; background-color: transparent\; font-variant-numeric: normal\; font-variant-east-asian: normal\; vertical-align: baseline\; white-space: pre-wrap\;">Doors open at 6 p.m. The program begins at 6:30 p.m.</span></span></p>\n\n<p dir="ltr" style="line-height:1.38\;margin-top:0pt\;margin-bottom:0pt\;"><span id="docs-internal-guid-cf6245df-7fff-6712-6d4c-f73c6bd46fb3"><span style="font-size: 11pt\; font-family: Arial\; color: rgb(0\, 0\, 0)\; background-color: transparent\; font-variant-numeric: normal\; font-variant-east-asian: normal\; vertical-align: baseline\; white-space: pre-wrap\;">This event is sponsored by the Veteran&rsquo\;s Homecoming Committee\, American Legion Post 20\, and The Porterville Memorial District.</span></span></p>\n\n<div>&nbsp\;</div>\n
LOCATION:Porterville Memorial Auditorium 415 W. Olive Avenue Porterville\, CA 93257
UID:e.2225.2069
SEQUENCE:3
DTSTAMP:20260421T035553Z
URL:https://business.portervillechamber.org/events/details/74th-annual-veterans-homecoming-queen-miss-porterville-pageant-2069
END:VEVENT

END:VCALENDAR
