BEGIN:VCALENDAR
VERSION:2.0
PRODID:-//ChamberMaster//Event Calendar 2.0//EN
METHOD:PUBLISH
X-PUBLISHED-TTL:P3D
REFRESH-INTERVAL:P3D
CALSCALE:GREGORIAN
BEGIN:VEVENT
DTSTART:20191031T160000Z
DTEND:20191031T200000Z
X-MICROSOFT-CDO-ALLDAYEVENT:FALSE
SUMMARY:8th Annual Porterville VETERANS STAND DOWN & RESOURCE FAIR
DESCRIPTION:Open to all Veterans and Family Members\n\nVeterans Services Provided:\n\n	VA Healthcare Enrollment (Bring DD214)\n	Veterans Employment  Assistant\n	Veterans Homeless Resources\n	CalVet\n	VA Benefits & Disability Information\n	Veteran Services Organization\n	Local Veteran Resources\n	Flu Shots\, Hep C & Blood Pressure testing and more\n\n\nVENDOR REGISTRATION LINK on Eventbrite: \n\nhttps://www.eventbrite.com/e/8th-annual-porterville-veterans-stand-down-resource-fair-vendor-reg-registration-72303633113?aff=8thAnnualPortervilleStandDown \n\nVETERANS CAN PRE-REGISTER TO MOVE THROUGH THE LINE FASTER via Eventbrite:\n\nhttps://www.eventbrite.com/e/veteran-registration-8th-annual-porterville-veterans-stand-down-resource-registration-72466983699?aff=8thAnnualPortervilleStandDown
X-ALT-DESC;FMTTYPE=text/html:Open to all Veterans and Family Members<br />\nVeterans Services Provided:\n<ul>\n	<li>VA Healthcare Enrollment (Bring DD214)</li>\n	<li>Veterans Employment&nbsp\; Assistant</li>\n	<li>Veterans Homeless Resources</li>\n	<li>CalVet</li>\n	<li>VA Benefits &amp\; Disability Information</li>\n	<li>Veteran Services Organization</li>\n	<li>Local Veteran Resources</li>\n	<li>Flu Shots\, Hep C &amp\; Blood Pressure testing and more</li>\n</ul>\n\n<p dir="ltr" id="docs-internal-guid-975a8c76-7fff-43e0-5550-b5f1db456c93" style="line-height:1.38\;margin-top:0pt\;margin-bottom:0pt\;"><span style="font-size:11pt\;font-family:Arial\;color:#000000\;background-color:transparent\;font-weight:400\;font-style:normal\;font-variant:normal\;text-decoration:none\;vertical-align:baseline\;white-space:pre\;white-space:pre-wrap\;">VENDOR REGISTRATION LINK on Eventbrite:&nbsp\;</span></p>\n\n<p dir="ltr" style="line-height:1.38\;margin-top:0pt\;margin-bottom:0pt\;"><a href="https://www.eventbrite.com/e/8th-annual-porterville-veterans-stand-down-resource-fair-vendor-reg-registration-72303633113?aff=8thAnnualPortervilleStandDown" style="text-decoration:none\;"><span style="font-size:11pt\;font-family:Arial\;color:#1155cc\;background-color:transparent\;font-weight:400\;font-style:normal\;font-variant:normal\;text-decoration:underline\;-webkit-text-decoration-skip:none\;text-decoration-skip-ink:none\;vertical-align:baseline\;white-space:pre\;white-space:pre-wrap\;">https://www.eventbrite.com/e/8th-annual-porterville-veterans-stand-down-resource-fair-vendor-reg-registration-72303633113?aff=8thAnnualPortervilleStandDown</span></a><span style="font-size:11pt\;font-family:Arial\;color:#000000\;background-color:transparent\;font-weight:400\;font-style:normal\;font-variant:normal\;text-decoration:none\;vertical-align:baseline\;white-space:pre\;white-space:pre-wrap\;">&nbsp\;</span></p>\n\n<p dir="ltr" style="line-height:1.38\;margin-top:0pt\;margin-bottom:0pt\;"><span style="font-size:11pt\;font-family:Arial\;color:#000000\;background-color:transparent\;font-weight:400\;font-style:normal\;font-variant:normal\;text-decoration:none\;vertical-align:baseline\;white-space:pre\;white-space:pre-wrap\;">VETERANS CAN PRE-REGISTER TO MOVE THROUGH THE LINE FASTER via Eventbrite:</span><br />\n<a href="https://www.eventbrite.com/e/veteran-registration-8th-annual-porterville-veterans-stand-down-resource-registration-72466983699?aff=8thAnnualPortervilleStandDown" style="text-decoration:none\;"><span style="font-size:11pt\;font-family:Arial\;color:#1155cc\;background-color:transparent\;font-weight:400\;font-style:normal\;font-variant:normal\;text-decoration:underline\;-webkit-text-decoration-skip:none\;text-decoration-skip-ink:none\;vertical-align:baseline\;white-space:pre\;white-space:pre-wrap\;">https://www.eventbrite.com/e/veteran-registration-8th-annual-porterville-veterans-stand-down-resource-registration-72466983699?aff=8thAnnualPortervilleStandDown</span></a><span style="font-size:11pt\;font-family:Arial\;color:#000000\;background-color:transparent\;font-weight:400\;font-style:normal\;font-variant:normal\;text-decoration:none\;vertical-align:baseline\;white-space:pre\;white-space:pre-wrap\;"> </span></p>\n
LOCATION:Porterville Veterans Memorial Building 1900 W Olive Ave Porterville\, CA 93257 (559) 781-7963
UID:e.2225.2057
SEQUENCE:3
DTSTAMP:20260421T035221Z
URL:https://business.portervillechamber.org/events/details/8th-annual-porterville-veterans-stand-down-resource-fair-2057
END:VEVENT

END:VCALENDAR
