BEGIN:VCALENDAR
VERSION:2.0
PRODID:-//ChamberMaster//Event Calendar 2.0//EN
METHOD:PUBLISH
X-PUBLISHED-TTL:P3D
REFRESH-INTERVAL:P3D
CALSCALE:GREGORIAN
BEGIN:VEVENT
DTSTART:20171102T150000Z
DTEND:20171102T200000Z
X-MICROSOFT-CDO-ALLDAYEVENT:FALSE
SUMMARY:8th Annual Water Conference
DESCRIPTION:Please join us on November 2\, 2017 for an engaging one-day conference focusing on California's current water situation and efforts underway to advance energy\, water and state policy. This Special Event will be held at SCE's Energy Education Center in Tulare\, CA.
X-ALT-DESC;FMTTYPE=text/html:Please join us on November 2\, 2017 for an engaging one-day conference focusing on California&#39\;s current water situation and efforts underway to advance energy\, water and state policy. This Special Event will be held at SCE&#39\;s Energy Education Center in Tulare\, CA.
LOCATION:4175 S. Laspina Street Tulare\, CA 93274
UID:e.2225.1258
SEQUENCE:3
DTSTAMP:20260422T214212Z
URL:https://business.portervillechamber.org/events/details/8th-annual-water-conference-1258
END:VEVENT

END:VCALENDAR
