BEGIN:VCALENDAR
VERSION:2.0
PRODID:-//ChamberMaster//Event Calendar 2.0//EN
METHOD:PUBLISH
X-PUBLISHED-TTL:P3D
REFRESH-INTERVAL:P3D
CALSCALE:GREGORIAN
BEGIN:VEVENT
DTSTART:20190316T230000Z
DTEND:20190317T030000Z
X-MICROSOFT-CDO-ALLDAYEVENT:FALSE
SUMMARY:A Night of Salsa
DESCRIPTION:This free event is sponsored by Fresno Medical Education Program and Valley Adult Day Services\n\nCome enjoy some chips and salsa\, while you learn to dance Salsa and learn more about Dementia. This event will be in Spanish.
X-ALT-DESC;FMTTYPE=text/html:This free event is sponsored by Fresno Medical Education Program and Valley Adult Day Services<br />\nCome enjoy some chips and salsa\, while you learn to dance Salsa and learn more about Dementia. This event will be in Spanish.&nbsp\;
LOCATION:Valley Adult Day Services. 227 E Oak Ave. Porterville\, CA 93257
UID:e.2225.1878
SEQUENCE:3
DTSTAMP:20260421T155006Z
URL:https://business.portervillechamber.org/events/details/a-night-of-salsa-1878
END:VEVENT

END:VCALENDAR
