BEGIN:VCALENDAR
VERSION:2.0
PRODID:-//ChamberMaster//Event Calendar 2.0//EN
METHOD:PUBLISH
X-PUBLISHED-TTL:P3D
REFRESH-INTERVAL:P3D
CALSCALE:GREGORIAN
BEGIN:VEVENT
DTSTART:20181014T000000Z
DTEND:20181014T060000Z
X-MICROSOFT-CDO-ALLDAYEVENT:FALSE
SUMMARY:A night to remember
DESCRIPTION:Art display\, Entertainment\, Wine tasting\, Dinner\, Chocolate Sampling\, Reverse Drawing Prize $1000\, Silent Auction
X-ALT-DESC;FMTTYPE=text/html:Art display\, Entertainment\, Wine tasting\, Dinner\, Chocolate Sampling\, Reverse Drawing Prize $1000\, Silent Auction
LOCATION:Nuckols Ranch
UID:e.2225.1795
SEQUENCE:3
DTSTAMP:20260422T003129Z
URL:https://business.portervillechamber.org/events/details/a-night-to-remember-1795
END:VEVENT

END:VCALENDAR
