BEGIN:VCALENDAR
VERSION:2.0
PRODID:-//ChamberMaster//Event Calendar 2.0//EN
METHOD:PUBLISH
X-PUBLISHED-TTL:P3D
REFRESH-INTERVAL:P3D
CALSCALE:GREGORIAN
BEGIN:VEVENT
DTSTART:20191006T010000Z
DTEND:20191006T050000Z
X-MICROSOFT-CDO-ALLDAYEVENT:FALSE
SUMMARY:A Nite at the Races
DESCRIPTION:A Nite at the Races is a fun and simple horse racing event. The more you play\, the better chance you have to win raffle prizes at the end of the evening and the more you are donating to the Porterville Breakfast Rotary Club's Foundation. All proceeds benefit community programs sponsored by the Porterville Breakfast Rotary Club such as the Stars in the Hills Prom and Friends of the Fair Day.
X-ALT-DESC;FMTTYPE=text/html:<span style="font-family:arial\;"><span style="font-size:12px\;"><span style="color: rgb(29\, 33\, 41)\; white-space: pre-wrap\;">A Nite at the Races is a fun and simple horse racing event. The more you play\, the better chance you have to win raffle prizes at the end of the evening and the more you are donating to the Porterville Breakfast Rotary Club&#39\;s Foundation. All proceeds benefit community programs sponsored by the Porterville Breakfast Rotary Club such as the Stars in the Hills Prom and Friends of the Fair Day.</span></span></span>
LOCATION:Porterville Breakfast Rotary Club 670 S. Plano St.\, Porterville\, CA 93257
UID:e.2225.2010
SEQUENCE:3
DTSTAMP:20260421T035011Z
URL:https://business.portervillechamber.org/events/details/a-nite-at-the-races-2010
END:VEVENT

END:VCALENDAR
