BEGIN:VCALENDAR
VERSION:2.0
PRODID:-//ChamberMaster//Event Calendar 2.0//EN
METHOD:PUBLISH
X-PUBLISHED-TTL:P3D
REFRESH-INTERVAL:P3D
CALSCALE:GREGORIAN
BEGIN:VEVENT
DTSTART:20200201T180000Z
DTEND:20200201T200000Z
X-MICROSOFT-CDO-ALLDAYEVENT:FALSE
SUMMARY:AAUW: Recycling & Riverland Trust Presentation
DESCRIPTION:"The public is invited to attend American Association of University Women (AAUW) program in the Porterville Chamber of Commerce's Conference Room to hear Soapy Mulholland and Barbara Laren. \n\n\n\nAAUW's goal is to bring together individuals to speak on a wide range of subjects\, to foster learning\, inspiration and provoke conversations that matter. "
X-ALT-DESC;FMTTYPE=text/html:&quot\;The public is invited to attend American Association of University Women (AAUW) program in the Porterville Chamber of Commerce&#39\;s Conference Room to hear Soapy Mulholland and Barbara Laren.&nbsp\;<br />\n<br />\nAAUW&#39\;s goal is to bring together individuals to speak on a wide range of subjects\, to foster learning\, inspiration and provoke conversations that matter. &quot\;
LOCATION:Porterville Chamber of Commerce's Conference Room 93 N. Main Street\, Porterville\, CA 93257
UID:e.2225.2123
SEQUENCE:3
DTSTAMP:20260420T221402Z
URL:https://business.portervillechamber.org/events/details/aauw-recycling-riverland-trust-presentation-2123
END:VEVENT

END:VCALENDAR
