BEGIN:VCALENDAR
VERSION:2.0
PRODID:-//ChamberMaster//Event Calendar 2.0//EN
METHOD:PUBLISH
X-PUBLISHED-TTL:P3D
REFRESH-INTERVAL:P3D
CALSCALE:GREGORIAN
BEGIN:VEVENT
DTSTART:20200226T191500Z
DTEND:20200226T203000Z
X-MICROSOFT-CDO-ALLDAYEVENT:FALSE
SUMMARY:Academy of Hospitality Meet & Greet
DESCRIPTION:Join us for a Meet & Greet with Academy of Hospitality students!\n\nAll attendees must RSVP!
X-ALT-DESC;FMTTYPE=text/html:<p dir="ltr" style="line-height:1.38\;margin-top:0pt\;margin-bottom:0pt\;"><span id="docs-internal-guid-a0e9661e-7fff-bec7-e5e5-f92fb9d780a2"><span style="font-size: 11pt\; font-family: Arial\; color: rgb(0\, 0\, 0)\; background-color: transparent\; font-variant-numeric: normal\; font-variant-east-asian: normal\; vertical-align: baseline\; white-space: pre-wrap\;">Join us for a Meet &amp\; Greet with Academy of Hospitality students!<br />\nAll attendees must RSVP!</span></span></p>\n
LOCATION:Monache High School\, Room C-1 960 N Newcomb Street Porterville\, CA 93257
UID:e.2225.2142
SEQUENCE:3
DTSTAMP:20260420T204607Z
URL:https://business.portervillechamber.org/events/details/academy-of-hospitality-meet-greet-2142
END:VEVENT

END:VCALENDAR
