BEGIN:VCALENDAR
VERSION:2.0
PRODID:-//ChamberMaster//Event Calendar 2.0//EN
METHOD:PUBLISH
X-PUBLISHED-TTL:P3D
REFRESH-INTERVAL:P3D
CALSCALE:GREGORIAN
BEGIN:VEVENT
DTSTART;VALUE=DATE:20181001
DTEND;VALUE=DATE:20181002
TRANSP:TRANSPARENT
X-MICROSOFT-CDO-ALLDAYEVENT:TRUE
SUMMARY:Adult Flag Football
DESCRIPTION:Registration: October 1\, 2018 \n\nEarly Bird Fee: (October 2-5) : $300\n\nTeam Fee: (October 8-26) : $326\n\nDeadline to register: October 26\, 2018\n\nTeam Captains Meeting: October 30\, 2018\, 5:30pm\, Heritage Center\n\nFor more information:  Tonya (559)791-7697
X-ALT-DESC;FMTTYPE=text/html:<p style="margin: 0px\; padding: 5px 10px\; color: rgb(128\, 128\, 128)\; font-family: Verdana\, Geneva\, sans-serif\; font-size: 12px\;"><span class="bold" style="font-weight: bold\;">Registration:</span>&nbsp\;October 1\, 2018&nbsp\;</p>\n\n<p style="margin: 0px\; padding: 5px 10px\; color: rgb(128\, 128\, 128)\; font-family: Verdana\, Geneva\, sans-serif\; font-size: 12px\;"><span class="bold" style="font-weight: bold\;">Early Bird Fee:&nbsp\;</span><span class="small" style="font-size: 11px\;">(October 2-5)</span><span class="bold" style="font-weight: bold\;">&nbsp\;:</span>&nbsp\;$300<br />\n<span class="bold" style="font-weight: bold\;">Team Fee:&nbsp\;</span><span class="small" style="font-size: 11px\;">(October 8-26)</span><span class="bold" style="font-weight: bold\;">&nbsp\;:</span>&nbsp\;$326</p>\n\n<p style="margin: 0px\; padding: 5px 10px\; color: rgb(128\, 128\, 128)\; font-family: Verdana\, Geneva\, sans-serif\; font-size: 12px\;"><span class="bold" style="font-weight: bold\;">Deadline to register:</span>&nbsp\;October 26\, 2018</p>\n\n<p style="margin: 0px\; padding: 5px 10px\; color: rgb(128\, 128\, 128)\; font-family: Verdana\, Geneva\, sans-serif\; font-size: 12px\;"><span class="bold" style="font-weight: bold\;">Team Captains Meeting:</span>&nbsp\;October 30\, 2018\, 5:30pm\, Heritage Center</p>\n\n<p style="margin: 0px\; padding: 5px 10px\; color: rgb(128\, 128\, 128)\; font-family: Verdana\, Geneva\, sans-serif\; font-size: 12px\;">For more information:&nbsp\; Tonya (559)791-7697</p>\n
LOCATION:
UID:e.2225.1454
SEQUENCE:3
DTSTAMP:20260422T003646Z
URL:https://business.portervillechamber.org/events/details/adult-flag-football-1454
END:VEVENT

END:VCALENDAR
