BEGIN:VCALENDAR
VERSION:2.0
PRODID:-//ChamberMaster//Event Calendar 2.0//EN
METHOD:PUBLISH
X-PUBLISHED-TTL:P3D
REFRESH-INTERVAL:P3D
CALSCALE:GREGORIAN
BEGIN:VEVENT
DTSTART:20190728T000000Z
DTEND:20190728T050000Z
X-MICROSOFT-CDO-ALLDAYEVENT:FALSE
SUMMARY:Agape Winery's 1st Annual "A Night Under the Stars"
DESCRIPTION:All White Attire Party! DJ\, Dancing\, Raffle and Fun! \n\n21+ Event (Must present valid I.D.)\n\n* All outside food and beverage is strictly prohibited *\n\n* White Attired is REQUIRED * \n\nRSVP: agapewineryinfo@gmail.com
X-ALT-DESC;FMTTYPE=text/html:All White Attire Party! DJ\, Dancing\, Raffle and Fun!&nbsp\;<br />\n21+ Event (Must present valid I.D.)<br />\n* All outside food and beverage is strictly prohibited *<br />\n* White Attired is REQUIRED *&nbsp\;<br />\nRSVP: agapewineryinfo@gmail.com<br />\n&nbsp\;
LOCATION:8281 Road 234\, Terra Bella\, CA 93270
UID:e.2225.1991
SEQUENCE:3
DTSTAMP:20260421T110630Z
URL:https://business.portervillechamber.org/events/details/agape-winery-s-1st-annual-a-night-under-the-stars-1991
END:VEVENT

END:VCALENDAR
