BEGIN:VCALENDAR
VERSION:2.0
PRODID:-//ChamberMaster//Event Calendar 2.0//EN
METHOD:PUBLISH
X-PUBLISHED-TTL:P3D
REFRESH-INTERVAL:P3D
CALSCALE:GREGORIAN
BEGIN:VEVENT
DTSTART:20200117T200000Z
DTEND:20200118T000000Z
X-MICROSOFT-CDO-ALLDAYEVENT:FALSE
SUMMARY:AGRICARE- Blood Drive
DESCRIPTION:AgriCare is hosting a Blood Drive on January 17th from 12:00 p.m. to 4:00 p.m. at their location.
X-ALT-DESC;FMTTYPE=text/html:AgriCare is hosting a Blood Drive on January 17th from 12:00 p.m. to 4:00 p.m. at their location.&nbsp\;
LOCATION:AgriCare 900 W. Grand Avenue\, Porterville\, CA 93257
UID:e.2225.2109
SEQUENCE:3
DTSTAMP:20260420T235650Z
URL:https://business.portervillechamber.org/events/details/agricare-blood-drive-2109
END:VEVENT

END:VCALENDAR
