BEGIN:VCALENDAR
VERSION:2.0
PRODID:-//ChamberMaster//Event Calendar 2.0//EN
METHOD:PUBLISH
X-PUBLISHED-TTL:P3D
REFRESH-INTERVAL:P3D
CALSCALE:GREGORIAN
BEGIN:VEVENT
DTSTART:20190927T220000Z
DTEND:20190928T010000Z
X-MICROSOFT-CDO-ALLDAYEVENT:FALSE
SUMMARY:Alive N' Thrivin' Disco!
DESCRIPTION:The Porterville Wellness Center Invites you to their\n\nAlive N' Thrivin' Disco!\n\nGuest Are Invited to dress in their best disco attire for some music\, food\, raffles\, and a dance contest.\n\nCome by to shake your Groove Thang!
X-ALT-DESC;FMTTYPE=text/html:<p>The Porterville Wellness Center Invites you to their<br />\nAlive N&#39\; Thrivin&#39\; Disco!<br />\nGuest Are Invited to dress in their best disco attire for some music\, food\, raffles\, and a dance contest.<br />\nCome by to shake your Groove Thang!</p>\n
LOCATION:333 N Henderson Ave Porterville\, CA 93257
UID:e.2225.2048
SEQUENCE:3
DTSTAMP:20260421T054133Z
URL:https://business.portervillechamber.org/events/details/alive-n-thrivin-disco-2048
END:VEVENT

END:VCALENDAR
