BEGIN:VCALENDAR
VERSION:2.0
PRODID:-//ChamberMaster//Event Calendar 2.0//EN
METHOD:PUBLISH
X-PUBLISHED-TTL:P3D
REFRESH-INTERVAL:P3D
CALSCALE:GREGORIAN
BEGIN:VEVENT
DTSTART:20191206T030000Z
DTEND:20191206T060000Z
X-MICROSOFT-CDO-ALLDAYEVENT:FALSE
SUMMARY:Annual Children's Christmas Parade
DESCRIPTION:The Annual Children's Christmas Parade starts at 7 p.m. on Thursday\, December 5th. The parade route is Main Street from Morton south to Olive.  Two announcer locations are planned\; one in front of the City Hall and the other in front of the Chamber\, office which is where the judging stage will be located as well.\n\nPorterville's Annual Children's Christmas parade is sponsored by the Rotary Club of Porterville\, the City of Porterville\, and the Porterville Chamber of Commerce. For more information\, contact the Chamber at 784-7502.
X-ALT-DESC;FMTTYPE=text/html:<p style="box-sizing: border-box\; margin: 0px 0px 10px\; font-size: 16px\; font-family: arial\, sans-serif\;">The Annual Children&#39\;s Christmas Parade starts at 7 p.m. on Thursday\, December 5th. The parade route is Main Street from Morton south to Olive.&nbsp\; Two announcer locations are planned\; one in front of the City Hall and the other in front of the Chamber\, office which is where the judging stage will be located as well.</p>\n\n<p style="box-sizing: border-box\; margin: 0px 0px 10px\; font-size: 16px\; font-family: arial\, sans-serif\;">Porterville&rsquo\;s Annual Children&rsquo\;s Christmas parade is sponsored by the Rotary Club of Porterville\, the City of Porterville\, and the Porterville Chamber of Commerce. For more information\, contact the Chamber at 784-7502.</p>\n
LOCATION:
UID:e.2225.2076
SEQUENCE:3
DTSTAMP:20260421T001345Z
URL:https://business.portervillechamber.org/events/details/annual-children-s-christmas-parade-2076
END:VEVENT

END:VCALENDAR
