BEGIN:VCALENDAR
VERSION:2.0
PRODID:-//ChamberMaster//Event Calendar 2.0//EN
METHOD:PUBLISH
X-PUBLISHED-TTL:P3D
REFRESH-INTERVAL:P3D
CALSCALE:GREGORIAN
BEGIN:VEVENT
DTSTART:20181204T030000Z
DTEND:20181204T053000Z
X-MICROSOFT-CDO-ALLDAYEVENT:FALSE
SUMMARY:Annual Children's Christmas Parade - 'A Starlight Christmas'
DESCRIPTION:Annual Cildren's Christmas Parade - 'A Starlight Christmas'
X-ALT-DESC;FMTTYPE=text/html:Annual Cildren&#39\;s Christmas Parade - &#39\;A Starlight Christmas&#39\;
LOCATION:
UID:e.2225.1796
SEQUENCE:3
DTSTAMP:20260421T230205Z
URL:https://business.portervillechamber.org/events/details/annual-children-s-christmas-parade-a-starlight-christmas-1796
END:VEVENT

END:VCALENDAR
