BEGIN:VCALENDAR
VERSION:2.0
PRODID:-//ChamberMaster//Event Calendar 2.0//EN
METHOD:PUBLISH
X-PUBLISHED-TTL:P3D
REFRESH-INTERVAL:P3D
CALSCALE:GREGORIAN
BEGIN:VEVENT
DTSTART:20181214T010000Z
DTEND:20181214T030000Z
X-MICROSOFT-CDO-ALLDAYEVENT:FALSE
SUMMARY:Annual Holiday Mixer - Sierra View Medical
DESCRIPTION:Annual Holiday Mixer - Sierra View Medical Centers
X-ALT-DESC;FMTTYPE=text/html:Annual Holiday Mixer - Sierra View Medical Centers
LOCATION:465 West Putnam Ave.
UID:e.2225.1829
SEQUENCE:3
DTSTAMP:20260421T211657Z
URL:https://business.portervillechamber.org/events/details/annual-holiday-mixer-sierra-view-medical-1829
END:VEVENT

END:VCALENDAR
