BEGIN:VCALENDAR
VERSION:2.0
PRODID:-//ChamberMaster//Event Calendar 2.0//EN
METHOD:PUBLISH
X-PUBLISHED-TTL:P3D
REFRESH-INTERVAL:P3D
CALSCALE:GREGORIAN
BEGIN:VEVENT
DTSTART:20191213T010000Z
DTEND:20191213T023000Z
X-MICROSOFT-CDO-ALLDAYEVENT:FALSE
SUMMARY:Annual Holiday Mixer- Sierra View Medical Center
DESCRIPTION:
X-ALT-DESC;FMTTYPE=text/html:
LOCATION:Sierra View Medical Center 465 W. Putnam Avenue Porterville\, CA 93257
UID:e.2225.2094
SEQUENCE:3
DTSTAMP:20260421T001937Z
URL:https://business.portervillechamber.org/events/details/annual-holiday-mixer-sierra-view-medical-center-2094
END:VEVENT

END:VCALENDAR
