BEGIN:VCALENDAR
VERSION:2.0
PRODID:-//ChamberMaster//Event Calendar 2.0//EN
METHOD:PUBLISH
X-PUBLISHED-TTL:P3D
REFRESH-INTERVAL:P3D
CALSCALE:GREGORIAN
BEGIN:VEVENT
DTSTART:20181209T213000Z
DTEND:20181209T230000Z
X-MICROSOFT-CDO-ALLDAYEVENT:FALSE
SUMMARY:Annual Senior Christmas Luncheon
DESCRIPTION:Tickets can be purchased at the Parks and Leasure office in Cit Hall\, and at the Heritage Center.\n\nThe Monache Stage Band will be playing.
X-ALT-DESC;FMTTYPE=text/html:Tickets can be purchased at the Parks and Leasure office in Cit Hall\, and at the Heritage Center.<br />\nThe Monache Stage Band will be playing.
LOCATION:Burton Middle School 1155 N. Elderwood St.
UID:e.2225.1831
SEQUENCE:3
DTSTAMP:20260421T211424Z
URL:https://business.portervillechamber.org/events/details/annual-senior-christmas-luncheon-1831
END:VEVENT

END:VCALENDAR
