BEGIN:VCALENDAR
VERSION:2.0
PRODID:-//ChamberMaster//Event Calendar 2.0//EN
METHOD:PUBLISH
X-PUBLISHED-TTL:P3D
REFRESH-INTERVAL:P3D
CALSCALE:GREGORIAN
BEGIN:VEVENT
DTSTART:20190526T003000Z
DTEND:20190526T023000Z
X-MICROSOFT-CDO-ALLDAYEVENT:FALSE
SUMMARY:Annual Wine and Dine Party- POSTPONED
DESCRIPTION:5:30 pm Social Time\n\n6:30 pm Dinner\n\n7:30 pm Live Auction
X-ALT-DESC;FMTTYPE=text/html:5:30 pm Social Time<br />\n6:30 pm Dinner<br />\n7:30 pm Live Auction
LOCATION:Porterville Historical Museum 257 N. D Street Porterville\, CA 93257
UID:e.2225.1930
SEQUENCE:3
DTSTAMP:20260421T125133Z
URL:https://business.portervillechamber.org/events/details/annual-wine-and-dine-party-postponed-1930
END:VEVENT

END:VCALENDAR
