BEGIN:VCALENDAR
VERSION:2.0
PRODID:-//ChamberMaster//Event Calendar 2.0//EN
METHOD:PUBLISH
X-PUBLISHED-TTL:P3D
REFRESH-INTERVAL:P3D
CALSCALE:GREGORIAN
BEGIN:VEVENT
DTSTART:20181027T150000Z
DTEND:20181027T170000Z
X-MICROSOFT-CDO-ALLDAYEVENT:FALSE
SUMMARY:Applebee's Breakfast Fundraiser
DESCRIPTION:You are invited to an Applebee's reakfast fundraiser benefiting: Kings/Tulare Homeless Alliance
X-ALT-DESC;FMTTYPE=text/html:You are invited to an Applebee&#39\;s reakfast fundraiser benefiting: Kings/Tulare Homeless Alliance
LOCATION:892 W. Henderson Ave\, Porterville CA
UID:e.2225.1817
SEQUENCE:3
DTSTAMP:20260422T003129Z
URL:https://business.portervillechamber.org/events/details/applebee-s-breakfast-fundraiser-1817
END:VEVENT

END:VCALENDAR
