BEGIN:VCALENDAR
VERSION:2.0
PRODID:-//ChamberMaster//Event Calendar 2.0//EN
METHOD:PUBLISH
X-PUBLISHED-TTL:P3D
REFRESH-INTERVAL:P3D
CALSCALE:GREGORIAN
BEGIN:VEVENT
DTSTART;VALUE=DATE:20200128
DTEND;VALUE=DATE:20200129
TRANSP:TRANSPARENT
X-MICROSOFT-CDO-ALLDAYEVENT:TRUE
SUMMARY:Auditions: Buck Shaffer Spectacular
DESCRIPTION:The Buck Shaffer Spectacular is approaching! This event is a fast-moving variety show which welcomes elementary\, high school\, and adult aged performers. The theme for 2020 is "Movie Night at the Porter."\n\nIndividuals and Groups seeking to audition may contact Richard Eckhoff at buckspectacular@ocsnet.net for a digital audition sheet. Those seeking a physical copy may pick them up at the Porterville Chamber of Commerce.
X-ALT-DESC;FMTTYPE=text/html:<span id="docs-internal-guid-5607f9c9-7fff-1e3d-221c-f9cc7b825a71"><span style="font-size: 11pt\; font-family: Arial\; color: rgb(0\, 0\, 0)\; background-color: transparent\; font-variant-numeric: normal\; font-variant-east-asian: normal\; vertical-align: baseline\; white-space: pre-wrap\;">The Buck Shaffer Spectacular is approaching! This event is a fast-moving variety show which welcomes elementary\, high school\, and adult aged performers. The theme for 2020 is &quot\;Movie Night at the Porter.&quot\;<br />\nIndividuals and Groups seeking to audition may contact Richard Eckhoff at buckspectacular@ocsnet.net for a digital audition sheet. Those seeking a physical copy may pick them up at the Porterville Chamber of Commerce.</span></span>
LOCATION:Porterville Memorial Auditorium 415 W Olive Avenue Porterville\, CA 93257
UID:e.2225.2112
SEQUENCE:3
DTSTAMP:20260420T235605Z
URL:https://business.portervillechamber.org/events/details/auditions-buck-shaffer-spectacular-2112
END:VEVENT

END:VCALENDAR
