BEGIN:VCALENDAR
VERSION:2.0
PRODID:-//ChamberMaster//Event Calendar 2.0//EN
METHOD:PUBLISH
X-PUBLISHED-TTL:P3D
REFRESH-INTERVAL:P3D
CALSCALE:GREGORIAN
BEGIN:VEVENT
DTSTART:20181103T003000Z
DTEND:20181103T033000Z
X-MICROSOFT-CDO-ALLDAYEVENT:FALSE
SUMMARY:Awards & Installation Dinner
DESCRIPTION:2018 Awards & Installation Dinner "A Winter Wonderland"
X-ALT-DESC;FMTTYPE=text/html:2018 Awards &amp\; Installation Dinner &quot\;A Winter Wonderland&quot\;
LOCATION:Nuckols Ranch 13144 Road 216
UID:e.2225.1823
SEQUENCE:3
DTSTAMP:20260421T225714Z
URL:https://business.portervillechamber.org/events/details/awards-installation-dinner-1823
END:VEVENT

END:VCALENDAR
