BEGIN:VCALENDAR
VERSION:2.0
PRODID:-//ChamberMaster//Event Calendar 2.0//EN
METHOD:PUBLISH
X-PUBLISHED-TTL:P3D
REFRESH-INTERVAL:P3D
CALSCALE:GREGORIAN
BEGIN:VEVENT
DTSTART:20191101T183000Z
DTEND:20191101T220000Z
X-MICROSOFT-CDO-ALLDAYEVENT:FALSE
SUMMARY:Battle of the Badges Blood Drive: Porterville Police Department
DESCRIPTION:
X-ALT-DESC;FMTTYPE=text/html:
LOCATION:Porterville Police Department 350 N. D Street Porterville\, CA 93257
UID:e.2225.2087
SEQUENCE:3
DTSTAMP:20260421T035640Z
URL:https://business.portervillechamber.org/events/details/battle-of-the-badges-blood-drive-porterville-police-department-2087
END:VEVENT

END:VCALENDAR
