BEGIN:VCALENDAR
VERSION:2.0
PRODID:-//ChamberMaster//Event Calendar 2.0//EN
METHOD:PUBLISH
X-PUBLISHED-TTL:P3D
REFRESH-INTERVAL:P3D
CALSCALE:GREGORIAN
BEGIN:VEVENT
DTSTART:20210501T180000Z
DTEND:20210501T190000Z
X-MICROSOFT-CDO-ALLDAYEVENT:FALSE
SUMMARY:Be Red Cross Ready for Wildfires
DESCRIPTION:Join the Red Cross of Central California to learn how to prepare yourself\, your family\, and your home for this year's wildfire season\, and for disasters in general.
X-ALT-DESC;FMTTYPE=text/html:Join the Red Cross of Central California to learn how to prepare yourself\, your family\, and your home for this year&#39\;s wildfire season\, and for disasters in general.
LOCATION:Register at https://volunteerconnection.redcross.org/?nd=vms_public_form&form_id=9528 for the Virtual Event via Microsoft Teams Live Event
UID:e.2225.2201
SEQUENCE:3
DTSTAMP:20260419T182128Z
URL:https://business.portervillechamber.org/events/details/be-red-cross-ready-for-wildfires-2201
END:VEVENT

END:VCALENDAR
