BEGIN:VCALENDAR
VERSION:2.0
PRODID:-//ChamberMaster//Event Calendar 2.0//EN
METHOD:PUBLISH
X-PUBLISHED-TTL:P3D
REFRESH-INTERVAL:P3D
CALSCALE:GREGORIAN
BEGIN:VEVENT
DTSTART:20200215T230000Z
DTEND:20200216T010000Z
X-MICROSOFT-CDO-ALLDAYEVENT:FALSE
SUMMARY:Beginner's Watercolor Workshop
DESCRIPTION:Imagine Community Arts Center is hosting a Beginners Watercolor Workshop at their studio! All supplies will be provided.\n\nThis event welcomes Adults and Children 12+.
X-ALT-DESC;FMTTYPE=text/html:Imagine Community Arts Center is hosting a Beginners Watercolor Workshop at their studio! All supplies will be provided.<br />\nThis event welcomes Adults and Children 12+.
LOCATION:Imagine Community Arts Center 93 N. Main Street Suite D Porterville\, CA 93257
UID:e.2225.2137
SEQUENCE:3
DTSTAMP:20260420T221015Z
URL:https://business.portervillechamber.org/events/details/beginner-s-watercolor-workshop-2137
END:VEVENT

END:VCALENDAR
