BEGIN:VCALENDAR
VERSION:2.0
PRODID:-//ChamberMaster//Event Calendar 2.0//EN
METHOD:PUBLISH
X-PUBLISHED-TTL:P3D
REFRESH-INTERVAL:P3D
CALSCALE:GREGORIAN
BEGIN:VEVENT
DTSTART:20200118T230000Z
DTEND:20200119T010000Z
X-MICROSOFT-CDO-ALLDAYEVENT:FALSE
SUMMARY:Beginners Watercolor Workshop
DESCRIPTION:Imagine Community Arts Center is hosting a Beginner's Watercolor Workshop at their Imagine Studio. Come learn the watercolor painting fundamentals by completing a step-by-step painting from a local artist. All materials will be provided.
X-ALT-DESC;FMTTYPE=text/html:Imagine Community Arts Center is hosting a Beginner&#39\;s Watercolor Workshop at their Imagine Studio. Come learn the watercolor painting fundamentals by completing a step-by-step painting from a local artist. All materials will be provided.&nbsp\;
LOCATION:Imagine Studio 93 N. Main Street\, Suite D Porterville\, CA 93257
UID:e.2225.2108
SEQUENCE:3
DTSTAMP:20260420T235442Z
URL:https://business.portervillechamber.org/events/details/beginners-watercolor-workshop-2108
END:VEVENT

END:VCALENDAR
