BEGIN:VCALENDAR
VERSION:2.0
PRODID:-//ChamberMaster//Event Calendar 2.0//EN
METHOD:PUBLISH
X-PUBLISHED-TTL:P3D
REFRESH-INTERVAL:P3D
CALSCALE:GREGORIAN
BEGIN:VEVENT
DTSTART:20190728T220000Z
DTEND:20190729T000000Z
X-MICROSOFT-CDO-ALLDAYEVENT:FALSE
SUMMARY:Bill Ingram and the Tulare Community Stage Band playing Big-Band Music
DESCRIPTION:Musicians come from 10 cities in Tulare & Kings County. They play arrangements by Count Basie\, Glenn Miller\, Duke Elllington\, Stan Kenton & other Big Band Era leaders. Pierpoint Bar & Grill will have extended hours so\, that they can have Big Band music from 3pm-5pm on the patio. If you like to dance\, this your chance.
X-ALT-DESC;FMTTYPE=text/html:Musicians come from 10 cities in Tulare &amp\; Kings County. They play arrangements by Count Basie\, Glenn Miller\, Duke Elllington\, Stan Kenton &amp\; other Big Band Era leaders. Pierpoint Bar &amp\; Grill will have extended hours so\, that they can have Big Band music from 3pm-5pm on the patio. If you like to dance\, this your chance.&nbsp\;
LOCATION:Pierpoint Bar & Grill 801 Highway 190\, Springville\, CA 93265
UID:e.2225.1989
SEQUENCE:3
DTSTAMP:20260421T092614Z
URL:https://business.portervillechamber.org/events/details/bill-ingram-and-the-tulare-community-stage-band-playing-big-band-music-1989
END:VEVENT

END:VCALENDAR
